BEGIN:VCALENDAR
VERSION:2.0
PRODID:-//217.160.0.123//NONSGML kigkonsult.se iCalcreator 2.20//
CALSCALE:GREGORIAN
METHOD:PUBLISH
X-WR-TIMEZONE:Europe/Berlin
BEGIN:VEVENT
UID:event30@djk eintracht borbeck
DTSTAMP:20260420T184012Z
CATEGORIES:BoxTeam Essen
DESCRIPTION:Stadtmeisterschaften Kevelaer\nKategorie: BoxTeam Essen\nICS-Li
 nk: https://www.donboscoclub.de/c_bte/index.php?option=com_jem&view=event&
 id=30:stadtmeisterschaften-kevelaer\n
DTSTART:20180513T150000
DTEND:20180513T150000
LOCATION:Festzelt Kevelaer\,Kapellenplatz / Hauptstrasse\,47623 Kevelaer\,G
 ermany
SUMMARY:Stadtmeisterschaften Kevelaer
URL:https://www.donboscoclub.de/c_bte/index.php?option=com_jem&view=event&i
 d=30:stadtmeisterschaften-kevelaer
END:VEVENT
END:VCALENDAR
